BEGIN:VCALENDAR
VERSION:2.0
PRODID:icalendar-ruby
CALSCALE:GREGORIAN
METHOD:PUBLISH
BEGIN:VEVENT
DTSTAMP:20260423T144947Z
UID:74-968561@cpchurch.net.au
DTSTART:20261031T233000Z
DTEND:20261101T003000Z
CLASS:PUBLIC
CREATED:20260424T001421
DESCRIPTION:
LAST-MODIFIED:20260424T001421
LOCATION:102-112 Centenary Ave Kurunjang\, VIC 3337\, AU
SUMMARY:Church Service - Melton
URL;VALUE=URI:https://cpchurch.net.au/events/church-service-melton--74/2026
 -11-01
END:VEVENT
END:VCALENDAR
