BEGIN:VCALENDAR
VERSION:2.0
PRODID:icalendar-ruby
CALSCALE:GREGORIAN
METHOD:PUBLISH
BEGIN:VEVENT
DTSTAMP:20260423T065551Z
UID:74-967259@cpchurch.net.au
DTSTART:20261017T233000Z
DTEND:20261018T003000Z
CLASS:PUBLIC
CREATED:20260423T115046
DESCRIPTION:
LAST-MODIFIED:20260423T115046
LOCATION:102-112 Centenary Ave Kurunjang\, VIC 3337\, AU
SUMMARY:Church Service - Melton
URL;VALUE=URI:https://cpchurch.net.au/events/church-service-melton--74/2026
 -10-18
END:VEVENT
END:VCALENDAR
