BEGIN:VCALENDAR
VERSION:2.0
PRODID:icalendar-ruby
CALSCALE:GREGORIAN
METHOD:PUBLISH
BEGIN:VEVENT
DTSTAMP:20260422T214505Z
UID:74-965957@cpchurch.net.au
DTSTART:20261003T233000Z
DTEND:20261004T003000Z
CLASS:PUBLIC
CREATED:20260423T060456
DESCRIPTION:
LAST-MODIFIED:20260423T060456
LOCATION:102-112 Centenary Ave Kurunjang\, VIC 3337\, AU
SUMMARY:Church Service - Melton
URL;VALUE=URI:https://cpchurch.net.au/events/church-service-melton--74/2026
 -10-04
END:VEVENT
END:VCALENDAR
