BEGIN:VCALENDAR
VERSION:2.0
PRODID:icalendar-ruby
CALSCALE:GREGORIAN
METHOD:PUBLISH
BEGIN:VEVENT
DTSTAMP:20260422T165158Z
UID:74-964656@cpchurch.net.au
DTSTART:20260927T003000Z
DTEND:20260927T013000Z
CLASS:PUBLIC
CREATED:20260423T001434
DESCRIPTION:
LAST-MODIFIED:20260423T001434
LOCATION:102-112 Centenary Ave Kurunjang\, VIC 3337\, AU
SUMMARY:Church Service - Melton
URL;VALUE=URI:https://cpchurch.net.au/events/church-service-melton--74/2026
 -09-27
END:VEVENT
END:VCALENDAR
